BEGIN:VCALENDAR
VERSION:2.0
PRODID:-//Devpost\, Inc.//hack.msa//EN
CALSCALE:GREGORIAN
BEGIN:VTIMEZONE
TZID:America/New_York
BEGIN:DAYLIGHT
DTSTART:20260308T030000
TZOFFSETFROM:-0500
TZOFFSETTO:-0400
RRULE:FREQ=YEARLY;BYDAY=2SU;BYMONTH=3
TZNAME:EDT
END:DAYLIGHT
BEGIN:STANDARD
DTSTART:20261101T010000
TZOFFSETFROM:-0400
TZOFFSETTO:-0500
RRULE:FREQ=YEARLY;BYDAY=1SU;BYMONTH=11
TZNAME:EST
END:STANDARD
END:VTIMEZONE
BEGIN:VEVENT
DTSTAMP:20260419T125729Z
UID:a23c67b6-bb2a-4d96-87be-e8df459fa13a
DTSTART;TZID=America/New_York:20260418T123000
DTEND;TZID=America/New_York:20260419T123000
DESCRIPTION:https://hackmsa.devpost.com/
LOCATION:2317 Speedway\, Austin\, TX 78712\, USA
SUMMARY:hack.msa
BEGIN:VALARM
ACTION:DISPLAY
TRIGGER:-P3D
SUMMARY:Get ready\, the hacking starts in 3 days.
END:VALARM
END:VEVENT
END:VCALENDAR
